BEGIN:VCALENDAR
VERSION:2.0
PRODID:-//pretix//Keizerstads_Jeugdorkest//
BEGIN:VTIMEZONE
TZID:Europe/Amsterdam
BEGIN:STANDARD
DTSTART:20001029T030000
RRULE:FREQ=YEARLY;BYDAY=-1SU;BYMONTH=10
TZNAME:CET
TZOFFSETFROM:+0200
TZOFFSETTO:+0100
END:STANDARD
BEGIN:DAYLIGHT
DTSTART:20000326T020000
RRULE:FREQ=YEARLY;BYDAY=-1SU;BYMONTH=3
TZNAME:CEST
TZOFFSETFROM:+0100
TZOFFSETTO:+0200
END:DAYLIGHT
END:VTIMEZONE
BEGIN:VEVENT
UID:pretix-concert-jul2023-0@pretix.keizerstadsjeugdorkest.nl
DTSTART;TZID=Europe/Amsterdam:20230708T160000
DTEND;TZID=Europe/Amsterdam:20230708T180000
DESCRIPTION:Tickets: https://pretix.keizerstadsjeugdorkest.nl/concert/jul20
 23/\nOrganisator: KJO Concerten
DTSTAMP:20260424T170059Z
LOCATION:Hubert\nSint Hubertusstraat 10\n6531 LB Nijmegen
SUMMARY:KJO - Zomerconcert 2023
END:VEVENT
END:VCALENDAR
